BEGIN:VCALENDAR
VERSION:2.0
PRODID:-//Library Market//iCal Export//EN
BEGIN:VEVENT
SUMMARY:Therapy Session - PRIVATE SESSION
UID:6253
DTSTAMP:20260422T050100Z
DTSTART:20260422T220000Z
DTEND:20260422T230000Z
LOCATION:564 State Street, Hammond, IN 46320, United States
ROOM: Billy Shelton Room
DESCRIPTION:Therapy session
URL:https://hammondpl.librarycalendar.com/event/422-reservation-6253
END:VEVENT
END:VCALENDAR
