BEGIN:VCALENDAR
VERSION:2.0
PRODID:-//Library Market//iCal Export//EN
BEGIN:VEVENT
SUMMARY:Homework Help Clinic
UID:6340
DTSTAMP:20260423T224700Z
DTSTART:20260427T220000Z
DTEND:20260428T000000Z
LOCATION:564 State Street, Hammond, IN 46320, United States
ROOM: Youth Programming Room
DESCRIPTION:Next Scholar Up!, is partnering with Community Education Empow
 erment Foundation (CEEF) and the Hammond Library to offer a Homework Help 
 Clinic for children ages 5–12. This clinic would provide support in math
  and reading, as well as general homework assistance, in a safe, encouragi
 ng, and structured environment.
URL:https://hammondpl.librarycalendar.com/event/homework-help-clinic-6340
END:VEVENT
END:VCALENDAR
