BEGIN:VCALENDAR
VERSION:2.0
PRODID:-//Library Market//iCal Export//EN
BEGIN:VEVENT
SUMMARY:Lear Corporation: Hiring Event
UID:6342
DTSTAMP:20260423T224700Z
DTSTART:20260508T160000Z
DTEND:20260508T180000Z
LOCATION:564 State Street, Hammond, IN 46320, United States
ROOM: Community Room
DESCRIPTION:This is a hiring event to attract new talent to our organizati
 on. Applicants are encouraged to apply at jobs.lear.com prior to the event
 .
URL:https://hammondpl.librarycalendar.com/event/lear-corporation-hiring-ev
 ent-6342
END:VEVENT
END:VCALENDAR
