BEGIN:VCALENDAR
VERSION:2.0
PRODID:-//Library Market//iCal Export//EN
BEGIN:VEVENT
SUMMARY:Friends of the Library
UID:6348
DTSTAMP:20260423T224700Z
DTSTART:20260512T180000Z
DTEND:20260512T190000Z
LOCATION:564 State Street, Hammond, IN 46320, United States
ROOM: Schlesinger Board Room
DESCRIPTION:Friends of the Library meetings are every 2nd Tuesday of the m
 onth at 1:00pm in the Schlesinger Board.
URL:https://hammondpl.librarycalendar.com/event/friends-library-6348
END:VEVENT
END:VCALENDAR
